BEGIN:VCALENDAR
VERSION:2.0
PRODID:-//Le Golf du Bernalmont - ECPv6.15.20//NONSGML v1.0//EN
CALSCALE:GREGORIAN
METHOD:PUBLISH
X-ORIGINAL-URL:https://golfdubernalmont.com
X-WR-CALDESC:Évènements pour Le Golf du Bernalmont
REFRESH-INTERVAL;VALUE=DURATION:PT1H
X-Robots-Tag:noindex
X-PUBLISHED-TTL:PT1H
BEGIN:VTIMEZONE
TZID:Europe/Brussels
BEGIN:DAYLIGHT
TZOFFSETFROM:+0100
TZOFFSETTO:+0200
TZNAME:CEST
DTSTART:20250330T010000
END:DAYLIGHT
BEGIN:STANDARD
TZOFFSETFROM:+0200
TZOFFSETTO:+0100
TZNAME:CET
DTSTART:20251026T010000
END:STANDARD
BEGIN:DAYLIGHT
TZOFFSETFROM:+0100
TZOFFSETTO:+0200
TZNAME:CEST
DTSTART:20260329T010000
END:DAYLIGHT
BEGIN:STANDARD
TZOFFSETFROM:+0200
TZOFFSETTO:+0100
TZNAME:CET
DTSTART:20261025T010000
END:STANDARD
BEGIN:DAYLIGHT
TZOFFSETFROM:+0100
TZOFFSETTO:+0200
TZNAME:CEST
DTSTART:20270328T010000
END:DAYLIGHT
BEGIN:STANDARD
TZOFFSETFROM:+0200
TZOFFSETTO:+0100
TZNAME:CET
DTSTART:20271031T010000
END:STANDARD
END:VTIMEZONE
BEGIN:VEVENT
DTSTART;TZID=Europe/Brussels:20260606T110000
DTEND;TZID=Europe/Brussels:20260606T130000
DTSTAMP:20260422T220514
CREATED:20260421T143452Z
LAST-MODIFIED:20260421T143735Z
UID:238151-1780743600-1780750800@golfdubernalmont.com
SUMMARY:Initiation au golf
DESCRIPTION:Envie de tester un sport convivial\, technique et fun ? \nLe samedi 6 juin à 11h\, le Golf du Bernalmont vous ouvre ses portes pour une initiation 100% gratuite. \n⚠️ Nombre de places limité – Inscription obligatoire par e-mail : scrambleliege@hotmail.com\nMerci de ne pas oublier d’ajouter votre numéro de téléphone et votre adresse mail lors de votre inscription par mail !
URL:https://golfdubernalmont.com/event/initiation-au-golf-2/
LOCATION:Le golf de Bernalmont\, Rue de Bernalmont 2\, Liège\, 4000
CATEGORIES:Les journées découvertes
ATTACH;FMTTYPE=image/jpeg:https://golfdubernalmont.com/wp-content/uploads/2024/03/1.jpg
ORGANIZER;CN="Golf du Bernalmont (Fran%C3%A7oise Stassart)":MAILTO:scrambleliege@hotmail.com
END:VEVENT
END:VCALENDAR